BEGIN:VCALENDAR
PRODID:-//eluceo/ical//2.0/EN
VERSION:2.0
CALSCALE:GREGORIAN
BEGIN:VEVENT
UID:f9c575451e2193415d28af0fd14cd131
DTSTAMP:20260421T111948Z
SUMMARY:Webinar: eTwinning für Anfänger:innen 
DTSTART:20260512T160000
DTEND:20260512T170000
END:VEVENT
END:VCALENDAR
