BEGIN:VCALENDAR
PRODID:-//eluceo/ical//2.0/EN
VERSION:2.0
CALSCALE:GREGORIAN
BEGIN:VEVENT
UID:f30d89c73523e14b11f782bb9e6f0532
DTSTAMP:20260421T113550Z
SUMMARY:EU–Uganda Study Fair 
DTSTART:20260604T090000
DTEND:20260604T170000
END:VEVENT
END:VCALENDAR
