BEGIN:VCALENDAR
PRODID:-//eluceo/ical//2.0/EN
VERSION:2.0
CALSCALE:GREGORIAN
BEGIN:VEVENT
UID:5b6df6f684ad168c6b820bcf6f04950b
DTSTAMP:20260421T111949Z
SUMMARY:Webinar: Research Careers in Europe: Discovering Austria
DTSTART:20260424T090000
DTEND:20260424T100000
END:VEVENT
END:VCALENDAR
