BEGIN:VCALENDAR
PRODID:-//eluceo/ical//2.0/EN
VERSION:2.0
CALSCALE:GREGORIAN
BEGIN:VEVENT
UID:8c5396c0fefffee29597aaaad18abf46
DTSTAMP:20260421T112005Z
SUMMARY:ParticipatiON in actiON: Promoting Inclusion in the Erasmus+ Commun
 ity
DTSTART:20260623T162900
DTEND:20260625T164100
END:VEVENT
END:VCALENDAR
