BEGIN:VCALENDAR
PRODID:-//eluceo/ical//2.0/EN
VERSION:2.0
CALSCALE:GREGORIAN
BEGIN:VEVENT
UID:ae3452f5151965eb39e9e85c49456de1
DTSTAMP:20260421T112005Z
SUMMARY:APPEAR in Practice 22 | Strengthening Higher Education Cooperation 
 between Armenia and Austria
DTSTART:20260618T170000
DTEND:20260618T190000
END:VEVENT
END:VCALENDAR
