BEGIN:VCALENDAR
PRODID:-//eluceo/ical//2.0/EN
VERSION:2.0
CALSCALE:GREGORIAN
BEGIN:VEVENT
UID:06e72c3e52267a795c84ee6a4bfc933a
DTSTAMP:20260419T154710Z
SUMMARY:Symposium "Schule und Weltraum" 2026
DTSTART:20260619T091200
DTEND:20260620T091300
END:VEVENT
END:VCALENDAR
