BEGIN:VCALENDAR
PRODID:-//eluceo/ical//2.0/EN
VERSION:2.0
CALSCALE:GREGORIAN
BEGIN:VEVENT
UID:4e9f23fefe211b3414776871b028d91d
DTSTAMP:20260419T154711Z
SUMMARY:Forum Wissenschaftskommunikation
DTSTART:20261209T085400
DTEND:20261210T085500
END:VEVENT
END:VCALENDAR
