BEGIN:VCALENDAR
PRODID:-//eluceo/ical//2.0/EN
VERSION:2.0
CALSCALE:GREGORIAN
BEGIN:VEVENT
UID:e59747025864bda3529e552326f16b5d
DTSTAMP:20260421T112303Z
SUMMARY:EAIE Conference and Exhibition 2026 
DTSTART:20260908T135900
DTEND:20260911T140200
END:VEVENT
END:VCALENDAR
