BEGIN:VCALENDAR
PRODID:-//eluceo/ical//2.0/EN
VERSION:2.0
CALSCALE:GREGORIAN
BEGIN:VEVENT
UID:a297464ffafa7ed93ca444f6c23e8e66
DTSTAMP:20260421T112930Z
SUMMARY:eTwinning-Seminar in Luxemburg: Basic Skills im Fokus - eTwinning i
 m Grundschulunterricht
DTSTART:20261008T140000
DTEND:20261010T123000
END:VEVENT
END:VCALENDAR
