BEGIN:VCALENDAR
PRODID:-//eluceo/ical//2.0/EN
VERSION:2.0
CALSCALE:GREGORIAN
BEGIN:VEVENT
UID:8b06c6ea11287de7b5eac921e4e6a89d
DTSTAMP:20260421T101016Z
SUMMARY:Meet & Greet Welcome Event for new scholarship holders
DTSTART:20260317T153000
DTEND:20260317T193000
END:VEVENT
END:VCALENDAR
