BEGIN:VCALENDAR
PRODID:-//eluceo/ical//2.0/EN
VERSION:2.0
CALSCALE:GREGORIAN
BEGIN:VEVENT
UID:f1287d7c955068aa2d95068756c7d7e2
DTSTAMP:20260421T112931Z
SUMMARY:Erasmus+ and eTwinning for Inclusive Education: Easy Start and Part
 ner-Finding
DTSTART:20260512T140600
DTEND:20260512T151700
END:VEVENT
END:VCALENDAR
