BEGIN:VCALENDAR
PRODID:-//eluceo/ical//2.0/EN
VERSION:2.0
CALSCALE:GREGORIAN
BEGIN:VEVENT
UID:ab17872eaa0cd0dc5cd5c813236def34
DTSTAMP:20260421T112328Z
SUMMARY:Erasmus+ Newcomer Training KA131 2026
DTSTART:20260506T090000
DTEND:20260506T163000
END:VEVENT
END:VCALENDAR
