BEGIN:VCALENDAR
PRODID:-//eluceo/ical//2.0/EN
VERSION:2.0
CALSCALE:GREGORIAN
BEGIN:VEVENT
UID:c0de506e243253b10ca7b97507af1f7c
DTSTAMP:20260421T113744Z
SUMMARY:Österreichische Hochschulnetzwerke mit Asien und Afrika-Podiumsges
 präch an der Universität Salzburg
DTSTART:20260325T140000
DTEND:20260325T160000
END:VEVENT
END:VCALENDAR
