BEGIN:VCALENDAR
PRODID:-//eluceo/ical//2.0/EN
VERSION:2.0
CALSCALE:GREGORIAN
BEGIN:VEVENT
UID:7545fbac1ce017f533cef18be20dbed1
DTSTAMP:20260421T113743Z
SUMMARY:AI in Education: From Best Practices to Erasmus+ KA2 Partnerships
DTSTART:20260520T154400
DTEND:20260522T154400
END:VEVENT
END:VCALENDAR
