BEGIN:VCALENDAR
PRODID:-//eluceo/ical//2.0/EN
VERSION:2.0
CALSCALE:GREGORIAN
BEGIN:VEVENT
UID:04b5f50708693d874b6a1a17d2f14b09
DTSTAMP:20260419T213618Z
SUMMARY:Workshopreihe zu Citizen Science: "Ideenwerkstatt"
DTSTART:20260324T100000
DTEND:20260324T120000
END:VEVENT
END:VCALENDAR
