BEGIN:VCALENDAR
PRODID:-//eluceo/ical//2.0/EN
VERSION:2.0
CALSCALE:GREGORIAN
BEGIN:VEVENT
UID:f5a5c56de4bddbf58653c7a8791a88f4
DTSTAMP:20260419T213616Z
SUMMARY:Workshopreihe zu Citizen Science: "Kommunikation in Citizen Science
 "
DTSTART:20260311T100000
DTEND:20260311T120000
END:VEVENT
END:VCALENDAR
