BEGIN:VCALENDAR
PRODID:-//eluceo/ical//2.0/EN
VERSION:2.0
CALSCALE:GREGORIAN
BEGIN:VEVENT
UID:2702712f77b087d4c1c3c623cbefad72
DTSTAMP:20260421T101016Z
SUMMARY:Spotlight on Austrian Higher Education Institutions: Focus STEM
DTSTART:20260317T110000
DTEND:20260317T110000
END:VEVENT
END:VCALENDAR
