BEGIN:VCALENDAR
PRODID:-//eluceo/ical//2.0/EN
VERSION:2.0
CALSCALE:GREGORIAN
BEGIN:VEVENT
UID:80073bb92924fc72a4ace4fdcea4adc5
DTSTAMP:20260421T125349Z
SUMMARY:GreenComp - Der Europäische Kompetenzrahmen für Nachhaltigkeit
DTSTART:20260326T150000
DTEND:20260326T160000
END:VEVENT
END:VCALENDAR
