BEGIN:VCALENDAR
PRODID:-//eluceo/ical//2.0/EN
VERSION:2.0
CALSCALE:GREGORIAN
BEGIN:VEVENT
UID:92e5f2dfede519fb816a6bf6eab18aad
DTSTAMP:20260421T112930Z
SUMMARY:Learn Green\, Live Green
DTSTART:20260422T165800
DTEND:20260424T165900
END:VEVENT
END:VCALENDAR
