BEGIN:VCALENDAR
PRODID:-//eluceo/ical//2.0/EN
VERSION:2.0
CALSCALE:GREGORIAN
BEGIN:VEVENT
UID:f91d2eb2f006b292403623f068c98b54
DTSTAMP:20260421T112849Z
SUMMARY:Challenges and Transitions in Architecture: Erasmus+ for tomorrow
 ’s European architects
DTSTART:20260601T155100
DTEND:20260604T155100
END:VEVENT
END:VCALENDAR
