BEGIN:VCALENDAR
PRODID:-//eluceo/ical//2.0/EN
VERSION:2.0
CALSCALE:GREGORIAN
BEGIN:VEVENT
UID:02b61ef88ec66fcd94fcfdc5498c068a
DTSTAMP:20260421T101016Z
SUMMARY:Abgehängt? Chancen und Herausforderungen der Wissenschaftskommunik
 ation auf dem Land
DTSTART:20260506T140000
DTEND:20260506T153000
END:VEVENT
END:VCALENDAR
