BEGIN:VCALENDAR
PRODID:-//eluceo/ical//2.0/EN
VERSION:2.0
CALSCALE:GREGORIAN
BEGIN:VEVENT
UID:f11266e9097587c4258a94c38ca4bd03
DTSTAMP:20260421T112849Z
SUMMARY:Europäische Jugendwoche 2026
DTSTART:20260424T080000
DTEND:20260501T234700
END:VEVENT
END:VCALENDAR
