BEGIN:VCALENDAR
PRODID:-//eluceo/ical//2.0/EN
VERSION:2.0
CALSCALE:GREGORIAN
BEGIN:VEVENT
UID:ac469daf66536ca14bdc68c286e12f11
DTSTAMP:20260421T112909Z
SUMMARY:eTwinning Workshop for Ambassadors in Litauen
DTSTART:20260507T130000
DTEND:20260509T130000
END:VEVENT
END:VCALENDAR
