BEGIN:VCALENDAR
PRODID:-//eluceo/ical//2.0/EN
VERSION:2.0
CALSCALE:GREGORIAN
BEGIN:VEVENT
UID:f5bc4d5a6eae0d0ee18a808ddf7d606e
DTSTAMP:20260421T112909Z
SUMMARY:eTwinning-Seminar in Dänemark: School Leaders
DTSTART:20261202T120000
DTEND:20261204T130000
END:VEVENT
END:VCALENDAR
