BEGIN:VCALENDAR
PRODID:-//eluceo/ical//2.0/EN
VERSION:2.0
CALSCALE:GREGORIAN
BEGIN:VEVENT
UID:22ea09e89622e1ea37947bcab077a874
DTSTAMP:20260421T103446Z
SUMMARY:Wisskomm Connected 2026
DTSTART:20261021T090000
DTEND:20261022T170000
END:VEVENT
END:VCALENDAR
