BEGIN:VCALENDAR
PRODID:-//eluceo/ical//2.0/EN
VERSION:2.0
CALSCALE:GREGORIAN
BEGIN:VEVENT
UID:74688146ddf38f4b5aa3555558b791db
DTSTAMP:20260421T112823Z
SUMMARY:Inclusive Career Guidance: Supporting Students with Emotional\, Beh
 avioural and Learning Disorders
DTSTART:20260422T210100
DTEND:20260425T210100
END:VEVENT
END:VCALENDAR
