BEGIN:VCALENDAR
PRODID:-//eluceo/ical//2.0/EN
VERSION:2.0
CALSCALE:GREGORIAN
BEGIN:VEVENT
UID:1460a75a2ad7eb8bcf8493a6240cb5f3
DTSTAMP:20260421T112303Z
SUMMARY:Erasmus+ Higher Education Cooperation Seminar Austria - Jordan
DTSTART:20260519T085100
DTEND:20260520T134000
END:VEVENT
END:VCALENDAR
