BEGIN:VCALENDAR
PRODID:-//eluceo/ical//2.0/EN
VERSION:2.0
CALSCALE:GREGORIAN
BEGIN:VEVENT
UID:9ad9a734f8409c3f727f7332bba2670b
DTSTAMP:20260421T113037Z
SUMMARY:5. Young-Science-Kongress
DTSTART:20261117T100600
DTEND:20261117T160000
END:VEVENT
END:VCALENDAR
