BEGIN:VCALENDAR
PRODID:-//eluceo/ical//2.0/EN
VERSION:2.0
CALSCALE:GREGORIAN
BEGIN:VEVENT
UID:16e9946e420447778d3f12eebfb50b0d
DTSTAMP:20260421T125328Z
SUMMARY:Lektoratsprogramm - Fragestunde zur Bewerbung
DTSTART:20260122T160000
DTEND:20260122T170000
END:VEVENT
END:VCALENDAR
