BEGIN:VCALENDAR
PRODID:-//eluceo/ical//2.0/EN
VERSION:2.0
CALSCALE:GREGORIAN
BEGIN:VEVENT
UID:75b3801aa74c76ca537d9500b4553e8e
DTSTAMP:20260421T125242Z
SUMMARY:Lektoratsprogramm - Fragestunde zur Bewerbung
DTSTART:20260113T133000
DTEND:20260113T143000
END:VEVENT
END:VCALENDAR
