BEGIN:VCALENDAR
PRODID:-//eluceo/ical//2.0/EN
VERSION:2.0
CALSCALE:GREGORIAN
BEGIN:VEVENT
UID:dc99a5b919e6f4c73a1b337de6894a34
DTSTAMP:20260421T125210Z
SUMMARY:MINT Moves - Kommunikationsstrategien für internationale Mobilitä
 t von MINT-Studierenden
DTSTART:20260120T133000
DTEND:20260120T153000
END:VEVENT
END:VCALENDAR
