BEGIN:VCALENDAR
PRODID:-//eluceo/ical//2.0/EN
VERSION:2.0
CALSCALE:GREGORIAN
BEGIN:VEVENT
UID:2c6300b7ea0c7f39a42ba55514caece2
DTSTAMP:20260421T112850Z
SUMMARY:Regionale EPALE und Erasmus+ Veranstaltung 
DTSTART:20260917T100000
DTEND:20260917T160000
END:VEVENT
END:VCALENDAR
