BEGIN:VCALENDAR
PRODID:-//eluceo/ical//2.0/EN
VERSION:2.0
CALSCALE:GREGORIAN
BEGIN:VEVENT
UID:797c515ae23b4701f7f367cf134f5579
DTSTAMP:20260421T112909Z
SUMMARY:Next Level Erwachsenenbildung: KI als Gamechanger?
DTSTART:20260611T090000
DTEND:20260611T123000
END:VEVENT
END:VCALENDAR
