BEGIN:VCALENDAR
PRODID:-//eluceo/ical//2.0/EN
VERSION:2.0
CALSCALE:GREGORIAN
BEGIN:VEVENT
UID:f7cc61c0d73877a51cf2b3344edfb48a
DTSTAMP:20260419T155552Z
SUMMARY:Citizen Science Summer School
DTSTART:20260607T090000
DTEND:20260612T180000
END:VEVENT
END:VCALENDAR
