BEGIN:VCALENDAR
PRODID:-//eluceo/ical//2.0/EN
VERSION:2.0
CALSCALE:GREGORIAN
BEGIN:VEVENT
UID:a9cf5b851b985554c9919638aa616d93
DTSTAMP:20260419T155531Z
SUMMARY:OIS Research Conference 2026
DTSTART:20260511T090000
DTEND:20260513T180000
END:VEVENT
END:VCALENDAR
