BEGIN:VCALENDAR
PRODID:-//eluceo/ical//2.0/EN
VERSION:2.0
CALSCALE:GREGORIAN
BEGIN:VEVENT
UID:c60a4a30fef64cfc375e363b6df06401
DTSTAMP:20260419T160333Z
SUMMARY:World Biodiversity Forum
DTSTART:20260614T090000
DTEND:20260619T180000
END:VEVENT
END:VCALENDAR
