BEGIN:VCALENDAR
PRODID:-//eluceo/ical//2.0/EN
VERSION:2.0
CALSCALE:GREGORIAN
BEGIN:VEVENT
UID:a8fda4cad655515a5d5b15267e0ec32f
DTSTAMP:20260421T084528Z
SUMMARY:Stimmen aus Citizen Science - heute und morgen
DTSTART:20250924T160000
DTEND:20250924T170000
END:VEVENT
END:VCALENDAR
