BEGIN:VCALENDAR
PRODID:-//eluceo/ical//2.0/EN
VERSION:2.0
CALSCALE:GREGORIAN
BEGIN:VEVENT
UID:c224873d6cbe7ee9adaf01e517fe276c
DTSTAMP:20260419T125919Z
SUMMARY:Transversal Skills and Wellbeing through Erasmus+ Mobilities
DTSTART:20251005T144000
DTEND:20251008T144100
END:VEVENT
END:VCALENDAR
