BEGIN:VCALENDAR
PRODID:-//eluceo/ical//2.0/EN
VERSION:2.0
CALSCALE:GREGORIAN
BEGIN:VEVENT
UID:3e04a39f4777adc06acfafbe62b72d50
DTSTAMP:20260421T084459Z
SUMMARY:The Project Compass: Navigating Ideas into a Project
DTSTART:20250618T105900
DTEND:20250620T110000
END:VEVENT
END:VCALENDAR
