BEGIN:VCALENDAR
PRODID:-//eluceo/ical//2.0/EN
VERSION:2.0
CALSCALE:GREGORIAN
BEGIN:VEVENT
UID:a92dbd02a7d0b864e61b4129ac945ea2
DTSTAMP:20260421T100251Z
SUMMARY:PartWiss 2026
DTSTART:20260902T090000
DTEND:20260904T180000
END:VEVENT
END:VCALENDAR
