BEGIN:VCALENDAR
PRODID:-//eluceo/ical//2.0/EN
VERSION:2.0
CALSCALE:GREGORIAN
BEGIN:VEVENT
UID:1773d737778f68901a1a94d41f1cd641
DTSTAMP:20260421T083151Z
SUMMARY:Vermittlungswerkstatt "Kultursensible Vermittlung"
DTSTART:20250505T160000
DTEND:20250505T183000
END:VEVENT
END:VCALENDAR
