BEGIN:VCALENDAR
PRODID:-//eluceo/ical//2.0/EN
VERSION:2.0
CALSCALE:GREGORIAN
BEGIN:VEVENT
UID:14bcdf5986daeda763f271fd2bf209cd
DTSTAMP:20260421T101004Z
SUMMARY:eTwinning-Seminar in Budapest: Citizenship Education and European v
 alues
DTSTART:20250509T133000
DTEND:20250511T123000
END:VEVENT
END:VCALENDAR
