BEGIN:VCALENDAR
PRODID:-//eluceo/ical//2.0/EN
VERSION:2.0
CALSCALE:GREGORIAN
BEGIN:VEVENT
UID:3465df550ffa9c76e300bf26b88aeb5b
DTSTAMP:20260421T113643Z
SUMMARY:4. Young-Science-Kongress
DTSTART:20251023T100000
DTEND:20251023T160000
END:VEVENT
END:VCALENDAR
