BEGIN:VCALENDAR
PRODID:-//eluceo/ical//2.0/EN
VERSION:2.0
CALSCALE:GREGORIAN
BEGIN:VEVENT
UID:98a6981daf63e544cc3dc4fc3d1444df
DTSTAMP:20260421T123230Z
SUMMARY:HEI Training Session in Brussels
DTSTART:20260625T144900
DTEND:20260626T145200
END:VEVENT
END:VCALENDAR
