BEGIN:VCALENDAR
PRODID:-//eluceo/ical//2.0/EN
VERSION:2.0
CALSCALE:GREGORIAN
BEGIN:VEVENT
UID:0fceb0971707c49ceabfbd5b22a7503e
DTSTAMP:20260419T170853Z
SUMMARY:OIS zam Forum
DTSTART:20261104T090000
DTEND:20261105T180000
END:VEVENT
END:VCALENDAR
