BEGIN:VCALENDAR
PRODID:-//eluceo/ical//2.0/EN
VERSION:2.0
CALSCALE:GREGORIAN
BEGIN:VEVENT
UID:da8d6e84b3c546c242816abe044aaba2
DTSTAMP:20260421T124342Z
SUMMARY:The Power of Non-Formal Education for Adult Learning
DTSTART:20260609T142000
DTEND:20260614T142000
END:VEVENT
END:VCALENDAR
