BEGIN:VCALENDAR
PRODID:-//eluceo/ical//2.0/EN
VERSION:2.0
CALSCALE:GREGORIAN
BEGIN:VEVENT
UID:9805ac6662f8a384c226ba1b0a43f42a
DTSTAMP:20260419T170852Z
SUMMARY:Sparkling-Science-Spotlight: "Mit Sparkling-Science-Projekten zum K
 limawandel forschen!“
DTSTART:20260616T130000
DTEND:20260616T140000
END:VEVENT
END:VCALENDAR
