BEGIN:VCALENDAR
PRODID:-//eluceo/ical//2.0/EN
VERSION:2.0
CALSCALE:GREGORIAN
BEGIN:VEVENT
UID:cb4c50dbb68e7639bc7549b9905259d8
DTSTAMP:20260421T084346Z
SUMMARY:Save the date: OeAD-Hochschultagung 2026
DTSTART:20261118T224000
DTEND:20261119T224100
END:VEVENT
END:VCALENDAR
