BEGIN:VCALENDAR
PRODID:-//eluceo/ical//2.0/EN
VERSION:2.0
CALSCALE:GREGORIAN
BEGIN:VEVENT
UID:f26d307c7984c7a96fc20f6dfb868759
DTSTAMP:20260421T130836Z
SUMMARY:NAFSA 2026
DTSTART:20260526T001900
DTEND:20260529T132000
END:VEVENT
END:VCALENDAR
