BEGIN:VCALENDAR
PRODID:-//eluceo/ical//2.0/EN
VERSION:2.0
CALSCALE:GREGORIAN
BEGIN:VEVENT
UID:3c189c41ee21ac0e9524de0520412651
DTSTAMP:20260419T171734Z
SUMMARY:Research and Communication: Training & Slam
DTSTART:20260615T090000
DTEND:20260616T210000
END:VEVENT
END:VCALENDAR
